BEGIN:VCALENDAR
VERSION:2.0
PRODID:-//wp-events-plugin.com//7.2.3.1//EN
TZID:Europe/Amsterdam
X-WR-TIMEZONE:Europe/Amsterdam
BEGIN:VEVENT
UID:4@staging.klmaeroclub.com
DTSTART;TZID=Europe/Amsterdam;VALUE=DATE:20230421
DTEND;TZID=Europe/Amsterdam;VALUE=DATE:20230424
DTSTAMP:20230504T153918Z
URL:https://staging.klmaeroclub.com/events/aero-friedrichshafen/
SUMMARY:Aero Friedrichshafen
DESCRIPTION:Op 21 april zullen we vertrekken richting Duitsland waar wij he
 t Aero Friedrichshafen evenement gaan bezoeken.\nDit zal een driedaagse cl
 ubvlucht zijn. Op dag één vliegen we heen\, dag twee gebruiken we voor h
 et evenement en op dag drie vliegen we weer terug.\n\nDe details voor dit 
 evenement zullen nog volgen.
ATTACH;FMTTYPE=image/jpeg:https://staging.klmaeroclub.com/wp-content/uploa
 ds/2023/03/thumbnail_Aeroexpo2011.jpg
CATEGORIES:Clubvlucht
LOCATION:KLM Aeroclub\, Emoeweg 11\, Lelystad\, 8218 PC\, Nederland
GEO:52.453189;5.521318
X-APPLE-STRUCTURED-LOCATION;VALUE=URI;X-ADDRESS=Emoeweg 11\, Lelystad\, 821
 8 PC\, Nederland;X-APPLE-RADIUS=100;X-TITLE=KLM Aeroclub:geo:52.453189,5.5
 21318
END:VEVENT
BEGIN:VTIMEZONE
TZID:Europe/Amsterdam
X-LIC-LOCATION:Europe/Amsterdam
BEGIN:DAYLIGHT
DTSTART:20230326T030000
TZOFFSETFROM:+0100
TZOFFSETTO:+0200
TZNAME:CEST
END:DAYLIGHT
END:VTIMEZONE
END:VCALENDAR