BEGIN:VCALENDAR
VERSION:2.0
PRODID:-//wp-events-plugin.com//7.2.3.1//EN
TZID:Europe/Amsterdam
X-WR-TIMEZONE:Europe/Amsterdam
BEGIN:VEVENT
UID:1@staging.klmaeroclub.com
DTSTART;TZID=Europe/Amsterdam:20230212T103000
DTEND;TZID=Europe/Amsterdam:20230212T170000
DTSTAMP:20230323T221830Z
URL:https://staging.klmaeroclub.com/events/air-rally-12-februari-2023/
SUMMARY:Air Rally
DESCRIPTION:\n\nWeet je nog hoe het moet? Je vlucht voorbereiden met de E6
 -B navigatieschijf\, je mass &amp\; balance berekenen zonder gebruik te ma
 ken van een digitaal model of de take-off distance berekenen via de offic
 iële tabellen? Dan is deze vlucht echt iets voor jou!\nBij deze vlucht ze
 tten we namelijk alle moderne navigatiemiddelen\, zoals bijvoorbeeld Skyde
 mon\, en GPS'en buitenspel en ben je helemaal afhankelijk van je eigen nav
 igatieskills.\n\nVoor de vlucht plan je samen met je team de route en stem
  je onderling de taken af. Wie wordt de vlieger en wie de navigator?\nDe v
 luchtduur zal ongeveer tussen de 30 en 40 minuten zijn en er zijn meerdere
  slots verdeeld gedurende de dag. De eerste vertrekt om 10:30 uur LT en de
  laatste om 15:00LT zodat we ruim binnen de dachtlichtperiode blijven.\n\n
 Uiteraard kan het evenement enkel plaatsvinden wanneer het weer dit toelaa
 t.\nZorg dat je ruim op tijd bent zodat je voldoende gelegenheid hebt om 
 de vlucht gedegen voor te bereiden en een vliegplan in te dienen.\n\nVoor 
 de winnende equipe is er uiteraard de eeuwige roem en extra rookworst in d
 e heerlijke snert die na afloop van de vlucht klaar staat! Dat wil je niet
  missen!\nDaarnaast zal er voor elke deelnemer een leuk aandenken klaar li
 ggen.\n\nDoe je mee? Leuk!\nMeld je wel even aan via een mail naar events
 @klmaeroclub.com. Dit is mogelijk tot uiterliijk donderdag 9 februari zoda
 t wij de tijd hebben om het een en ander voor te bereiden.\n\nGeef bij je 
 aanmelding even het volgende door:\n- Voorkeur tijdstip: 10:30\, 12:00\, 1
 3:30 of 15:00\n- Voorkeur vliegtuigtype\n- Aantal personen\n- Gewicht\n- G
 ebrevetteerd vlieger of passagier\n- Voorkeur vlieger of navigator\n\nOok 
 niet-vliegende leden zijn meer dan welkom! Als er plek is kun je misschien
  wel mee met een vlucht. Sowieso is er die dag genoeg te beleven op het ve
 ld en uiteraard wil je de snert niet missen! Meld je wel even aan.\n\nMoch
 t je nog vragen hebben kun je terecht via een e-mail naar events@klmaeroc
 lub.com of een Whatsapp bericht naar 0683606976.\n\nHopelijk tot 12 febru
 ari!\n\n
ATTACH;FMTTYPE=image/jpeg:https://staging.klmaeroclub.com/wp-content/uploa
 ds/2023/01/Air-Rally-12-feb-2023.jpg
CATEGORIES:Vliegevent
LOCATION:KLM Aeroclub\, Emoeweg 11\, Lelystad\, 8218 PC\, Nederland
GEO:52.453189;5.521318
X-APPLE-STRUCTURED-LOCATION;VALUE=URI;X-ADDRESS=Emoeweg 11\, Lelystad\, 821
 8 PC\, Nederland;X-APPLE-RADIUS=100;X-TITLE=KLM Aeroclub:geo:52.453189,5.5
 21318
END:VEVENT
BEGIN:VTIMEZONE
TZID:Europe/Amsterdam
X-LIC-LOCATION:Europe/Amsterdam
BEGIN:STANDARD
DTSTART:20221030T020000
TZOFFSETFROM:+0200
TZOFFSETTO:+0100
TZNAME:CET
END:STANDARD
END:VTIMEZONE
END:VCALENDAR