BEGIN:VCALENDAR
VERSION:2.0
PRODID:-//wp-events-plugin.com//7.2.3.1//EN
TZID:Europe/Amsterdam
X-WR-TIMEZONE:Europe/Amsterdam
BEGIN:VEVENT
UID:14@staging.klmaeroclub.com
DTSTART;TZID=Europe/Amsterdam:20240306T100000
DTEND;TZID=Europe/Amsterdam:20240306T170000
DTSTAMP:20240131T170220Z
URL:https://staging.klmaeroclub.com/events/clubvlucht-traditiekamer-de-koo
 y/
SUMMARY:Clubvlucht Traditiekamer De Kooy
DESCRIPTION:Op 6 maart hebben we toegang weten te regelen tot een unieke lo
 catie. We gaan namelijk op bezoek bij de Koninklijke Marine op vliegveld D
 e Kooy! Hier kunnen we een kijkje nemen in de zogeheten traditiekamer\, w
 aar van alles moois staat tentoongesteld\, en kunnen daarnaast aanschuiven
  bij de lunch.\n\nPraktische informatie\nVertrek Lelystad: 10:00 uur\nTeru
 gkomst Lelystad: ±17:00 uur\nKosten vlucht: op basis van kostendeling\nK
 osten Traditiekamer: vrijwillige bijdrage\nKosten lunch: ligt aan je keuz
 e\, maar reken op zo'n €7\,-\n\nBen je net zo enthousiast als wij? Meld
  je dan snel aan via een e-mail naar events@klmaeroclub.com of een Whatsa
 pp bericht naar 0643199178. Ook voor vragen kun je hier terecht.
ATTACH;FMTTYPE=image/jpeg:https://staging.klmaeroclub.com/wp-content/uploa
 ds/2024/01/Hawker_Sea_Hawk_FGA.6_118_D_2.jpg
CATEGORIES:Clubvlucht,Vliegevent
LOCATION:KLM Aeroclub\, Emoeweg 11\, Lelystad\, 8218 PC\, Nederland
GEO:52.453189;5.521318
X-APPLE-STRUCTURED-LOCATION;VALUE=URI;X-ADDRESS=Emoeweg 11\, Lelystad\, 821
 8 PC\, Nederland;X-APPLE-RADIUS=100;X-TITLE=KLM Aeroclub:geo:52.453189,5.5
 21318
END:VEVENT
BEGIN:VTIMEZONE
TZID:Europe/Amsterdam
X-LIC-LOCATION:Europe/Amsterdam
BEGIN:STANDARD
DTSTART:20231029T020000
TZOFFSETFROM:+0200
TZOFFSETTO:+0100
TZNAME:CET
END:STANDARD
END:VTIMEZONE
END:VCALENDAR