BEGIN:VCALENDAR
VERSION:2.0
PRODID:-//wp-events-plugin.com//7.2.3.1//EN
TZID:Europe/Amsterdam
X-WR-TIMEZONE:Europe/Amsterdam
BEGIN:VEVENT
UID:2@staging.klmaeroclub.com
DTSTART;TZID=Europe/Amsterdam:20230112T190000
DTEND;TZID=Europe/Amsterdam:20230112T230000
DTSTAMP:20230128T164731Z
URL:https://staging.klmaeroclub.com/events/nieuwjaarsborrel/
SUMMARY:Nieuwjaarsborrel
DESCRIPTION:Traditiegetrouw zullen wij dit jaar weer een nieuwjaarsborrel o
 rganiseren en wel op donderdagavond 12 januari. Wij zijn vanaf 19:00 uur a
 anwezig om eenieder van een drankje te voorzien en hopen om 19:30 uur met 
 een grote groep te kunnen proosten op een mooi nieuw vliegjaar. Kom je ook
 ?
ATTACH;FMTTYPE=image/jpeg:https://staging.klmaeroclub.com/wp-content/uploa
 ds/2023/01/Nieuwjaarsborrel.jpg
CATEGORIES:Social
LOCATION:KLM Aeroclub\, Emoeweg 11\, Lelystad\, 8218 PC\, Nederland
GEO:52.453189;5.521318
X-APPLE-STRUCTURED-LOCATION;VALUE=URI;X-ADDRESS=Emoeweg 11\, Lelystad\, 821
 8 PC\, Nederland;X-APPLE-RADIUS=100;X-TITLE=KLM Aeroclub:geo:52.453189,5.5
 21318
END:VEVENT
BEGIN:VTIMEZONE
TZID:Europe/Amsterdam
X-LIC-LOCATION:Europe/Amsterdam
BEGIN:STANDARD
DTSTART:20221030T020000
TZOFFSETFROM:+0200
TZOFFSETTO:+0100
TZNAME:CET
END:STANDARD
END:VTIMEZONE
END:VCALENDAR