BEGIN:VCALENDAR
VERSION:2.0
PRODID:-//wp-events-plugin.com//7.2.3.1//EN
TZID:Europe/Amsterdam
X-WR-TIMEZONE:Europe/Amsterdam
BEGIN:VEVENT
UID:5@staging.klmaeroclub.com
DTSTART;TZID=Europe/Amsterdam:20230609T180000
DTEND;TZID=Europe/Amsterdam:20230609T220000
DTSTAMP:20230527T073917Z
URL:https://staging.klmaeroclub.com/events/pot-luck-bbq/
SUMMARY:Pot Luck BBQ
DESCRIPTION:Kom op vrijdag 9 juni lekker meedoen met de Pot Luck BBQ op de 
 club! Het concept: neem zelf wat lekkers mee en gebruik onze BBQ om het te
  grillen. Wij zorgen voor de salades\, het stokbrood en de sausjes.\n\nDe 
 BBQ vindt plaats op de parkeerplaats voor de club.\nIn verband met het ink
 open van de spullen graag op tijd aanmelden via een mail naar events@klmae
 roclub.com of een Whatsapp bericht naar 0683606976.\nWe zouden het hartsti
 kke leuk vinden als je een introducee mee neemt! Wel willen we je vragen o
 ok deze mensen even te benoemen in je aanmelding zodat wij hier rekening m
 ee kunnen houden.
ATTACH;FMTTYPE=image/jpeg:https://staging.klmaeroclub.com/wp-content/uploa
 ds/2023/03/BBQ_005-copy-scaled.jpg
CATEGORIES:Social
LOCATION:KLM Aeroclub\, Emoeweg 11\, Lelystad\, 8218 PC\, Nederland
GEO:52.453189;5.521318
X-APPLE-STRUCTURED-LOCATION;VALUE=URI;X-ADDRESS=Emoeweg 11\, Lelystad\, 821
 8 PC\, Nederland;X-APPLE-RADIUS=100;X-TITLE=KLM Aeroclub:geo:52.453189,5.5
 21318
END:VEVENT
BEGIN:VTIMEZONE
TZID:Europe/Amsterdam
X-LIC-LOCATION:Europe/Amsterdam
BEGIN:DAYLIGHT
DTSTART:20230326T030000
TZOFFSETFROM:+0100
TZOFFSETTO:+0200
TZNAME:CEST
END:DAYLIGHT
END:VTIMEZONE
END:VCALENDAR